BEGIN:VCALENDAR
VERSION:2.0
PRODID:-//Germantown Library - ECPv6.15.20//NONSGML v1.0//EN
CALSCALE:GREGORIAN
METHOD:PUBLISH
X-WR-CALNAME:Germantown Library
X-ORIGINAL-URL:https://germantownlibrary.org
X-WR-CALDESC:Events for Germantown Library
REFRESH-INTERVAL;VALUE=DURATION:PT1H
X-Robots-Tag:noindex
X-PUBLISHED-TTL:PT1H
BEGIN:VTIMEZONE
TZID:America/New_York
BEGIN:DAYLIGHT
TZOFFSETFROM:-0500
TZOFFSETTO:-0400
TZNAME:EDT
DTSTART:20250309T070000
END:DAYLIGHT
BEGIN:STANDARD
TZOFFSETFROM:-0400
TZOFFSETTO:-0500
TZNAME:EST
DTSTART:20251102T060000
END:STANDARD
BEGIN:DAYLIGHT
TZOFFSETFROM:-0500
TZOFFSETTO:-0400
TZNAME:EDT
DTSTART:20260308T070000
END:DAYLIGHT
BEGIN:STANDARD
TZOFFSETFROM:-0400
TZOFFSETTO:-0500
TZNAME:EST
DTSTART:20261101T060000
END:STANDARD
BEGIN:DAYLIGHT
TZOFFSETFROM:-0500
TZOFFSETTO:-0400
TZNAME:EDT
DTSTART:20270314T070000
END:DAYLIGHT
BEGIN:STANDARD
TZOFFSETFROM:-0400
TZOFFSETTO:-0500
TZNAME:EST
DTSTART:20271107T060000
END:STANDARD
END:VTIMEZONE
BEGIN:VEVENT
DTSTART;TZID=America/New_York:20260514T190000
DTEND;TZID=America/New_York:20260514T210000
DTSTAMP:20260420T193804
CREATED:20260410T160908Z
LAST-MODIFIED:20260420T164052Z
UID:13754-1778785200-1778792400@germantownlibrary.org
SUMMARY:Community Screening - The Librarians
DESCRIPTION:Join us for a free community screening of The Librarians on Thursday\, May 14 at 7:00 PM in the Hover Room at the Germantown Library. \n“A different type of superhero movie.” — The Hollywood Reporter \nFrom Academy Award nominee and Peabody winner Kim A. Snyder\, The Librarians is a powerful new documentary about the fight for the freedom to read. As book bans sweep across the U.S.\, librarians become first responders in the defense of democracy\, free expression\, and First Amendment rights. \nFollowing the screening\, there will be a Q&A with special guest Rebekkah Smith Aldrich\, Executive Director of the Mid-Hudson Library System\, nationally recognized library leader\, author\, and advocate. \nFree and open to the public. Please note: this film contains mature themes and is recommended for ages 16+. Please RSVP as space is limited.
URL:https://germantownlibrary.org/event/community-screening-the-librarians/
LOCATION:Germantown Library Hover Room\, 31 Palatine Park Rd\, Germantown\, NY\, 12526\, United States
ATTACH;FMTTYPE=image/png:https://germantownlibrary.org/wp-content/uploads/2026/04/the-librarians-2.png
ORGANIZER;CN="Germantown Library":MAILTO:events@germantownlibrary.org
END:VEVENT
END:VCALENDAR