BEGIN:VCALENDAR
VERSION:2.0
PRODID:-//Germantown Library - ECPv6.15.20//NONSGML v1.0//EN
CALSCALE:GREGORIAN
METHOD:PUBLISH
X-ORIGINAL-URL:https://germantownlibrary.org
X-WR-CALDESC:Events for Germantown Library
REFRESH-INTERVAL;VALUE=DURATION:PT1H
X-Robots-Tag:noindex
X-PUBLISHED-TTL:PT1H
BEGIN:VTIMEZONE
TZID:America/New_York
BEGIN:DAYLIGHT
TZOFFSETFROM:-0500
TZOFFSETTO:-0400
TZNAME:EDT
DTSTART:20240310T070000
END:DAYLIGHT
BEGIN:STANDARD
TZOFFSETFROM:-0400
TZOFFSETTO:-0500
TZNAME:EST
DTSTART:20241103T060000
END:STANDARD
BEGIN:DAYLIGHT
TZOFFSETFROM:-0500
TZOFFSETTO:-0400
TZNAME:EDT
DTSTART:20250309T070000
END:DAYLIGHT
BEGIN:STANDARD
TZOFFSETFROM:-0400
TZOFFSETTO:-0500
TZNAME:EST
DTSTART:20251102T060000
END:STANDARD
BEGIN:DAYLIGHT
TZOFFSETFROM:-0500
TZOFFSETTO:-0400
TZNAME:EDT
DTSTART:20260308T070000
END:DAYLIGHT
BEGIN:STANDARD
TZOFFSETFROM:-0400
TZOFFSETTO:-0500
TZNAME:EST
DTSTART:20261101T060000
END:STANDARD
END:VTIMEZONE
BEGIN:VEVENT
DTSTART;TZID=America/New_York:20251203T093000
DTEND;TZID=America/New_York:20251203T110000
DTSTAMP:20260421T162718
CREATED:20250622T003545Z
LAST-MODIFIED:20250622T003545Z
UID:10003819-1764754200-1764759600@germantownlibrary.org
SUMMARY:Toddler Story Time + Playgroup
DESCRIPTION:Toddler Story Time + Playgroup\n• Every Wednesday morning: 9:30 – 11 am\n• Makerspace (enter through the lower parking lot) \nOur weekly playgroup combines play\, socialization\, and stories in our material-rich Makerspace. We offer a new theme each week that matches stories with an activity\, plus a chance to check out materials and sign-up for a library card for any adult or child in your household. \nDuring our 90 minute story time we encourage children to engage in social activities\, crafts\, and play in our Makerspace and Hoover Room. We mix in a few stories throughout the hour.
URL:https://germantownlibrary.org/event/toddlerstorytime-2-2/2025-12-03/
LOCATION:Germantown Library Makerspace\, 31 Palatine Park Rd\, Germantown\, NY\, 12526\, United States
CATEGORIES:At the Library,Makerspace
ATTACH;FMTTYPE=image/jpeg:https://germantownlibrary.org/wp-content/uploads/2024/09/Germantown-Library-Story-Time-Every-Wednesday-930am-11am-jpg.avif
ORGANIZER;CN="Germantown Library":MAILTO:events@germantownlibrary.org
END:VEVENT
BEGIN:VEVENT
DTSTART;TZID=America/New_York:20251207T110000
DTEND;TZID=America/New_York:20251207T130000
DTSTAMP:20260421T162718
CREATED:20250908T153000Z
LAST-MODIFIED:20251205T204631Z
UID:10004085-1765105200-1765112400@germantownlibrary.org
SUMMARY:Crochet Basket Workshop\, with Yarn Farm Kingston
DESCRIPTION:Crochet curious? This free class\, sponsored by the Germantown Library\, will take you through the stitches to make a basket! \n  \nYou’ll learn to crochet this project that uses 100% cotton cord. You’ll be able to choose a color from a variety of options. Cotton cord and crochet hook will be provided. Prior crochet knowledge is helpful though this project is beginner-friendly and we’ll help you step by step along the way! \n  \nEvent Details \n\nSunday\, December 7\n11:00 am – 1:00 pm\nat the Germantown Library\nThis is a free workshop
URL:https://germantownlibrary.org/event/crochet-basket-workshop-with-yarn-farm-kingston/
LOCATION:Germantown Library\, 31 Palatine Park Rd\, Germantown\, NY\, 12526\, United States
CATEGORIES:Adults Only,Arts & Crafts,At the Library,Free Event
ATTACH;FMTTYPE=image/jpeg:https://germantownlibrary.org/wp-content/uploads/2025/09/Yarn-Farm-Kingston-Workshops-Web-Social-1.jpg
ORGANIZER;CN="Germantown Library":MAILTO:events@germantownlibrary.org
END:VEVENT
BEGIN:VEVENT
DTSTART;TZID=America/New_York:20251207T140000
DTEND;TZID=America/New_York:20251207T153000
DTSTAMP:20260421T162718
CREATED:20251113T191607Z
LAST-MODIFIED:20251113T191607Z
UID:10004166-1765116000-1765121400@germantownlibrary.org
SUMMARY:Finch Robot & TurtleArt Snowflakes!
DESCRIPTION:Learn how to code while drawing colorful winter wonderlands with your friends using the Finch robot and TurtleArt! \nThis hands on and team building activity is for children in grades 3-5.  Space is limited! Please RSVP to reserve a spot.
URL:https://germantownlibrary.org/event/finch-robot-turtleart-snowflakes/
LOCATION:Germantown Library Makerspace\, 31 Palatine Park Rd\, Germantown\, NY\, 12526\, United States
ATTACH;FMTTYPE=image/jpeg:https://germantownlibrary.org/wp-content/uploads/2025/11/Copy-of-Finch-and-Turtle.jpg
ORGANIZER;CN="Germantown Library":MAILTO:events@germantownlibrary.org
END:VEVENT
BEGIN:VEVENT
DTSTART;TZID=America/New_York:20251210T093000
DTEND;TZID=America/New_York:20251210T110000
DTSTAMP:20260421T162718
CREATED:20250622T003545Z
LAST-MODIFIED:20250622T003545Z
UID:10003820-1765359000-1765364400@germantownlibrary.org
SUMMARY:Toddler Story Time + Playgroup
DESCRIPTION:Toddler Story Time + Playgroup\n• Every Wednesday morning: 9:30 – 11 am\n• Makerspace (enter through the lower parking lot) \nOur weekly playgroup combines play\, socialization\, and stories in our material-rich Makerspace. We offer a new theme each week that matches stories with an activity\, plus a chance to check out materials and sign-up for a library card for any adult or child in your household. \nDuring our 90 minute story time we encourage children to engage in social activities\, crafts\, and play in our Makerspace and Hoover Room. We mix in a few stories throughout the hour.
URL:https://germantownlibrary.org/event/toddlerstorytime-2-2/2025-12-10/
LOCATION:Germantown Library Makerspace\, 31 Palatine Park Rd\, Germantown\, NY\, 12526\, United States
CATEGORIES:At the Library,Makerspace
ATTACH;FMTTYPE=image/jpeg:https://germantownlibrary.org/wp-content/uploads/2024/09/Germantown-Library-Story-Time-Every-Wednesday-930am-11am-jpg.avif
ORGANIZER;CN="Germantown Library":MAILTO:events@germantownlibrary.org
END:VEVENT
BEGIN:VEVENT
DTSTART;TZID=America/New_York:20251213T110000
DTEND;TZID=America/New_York:20251213T130000
DTSTAMP:20260421T162718
CREATED:20251007T223328Z
LAST-MODIFIED:20251210T201033Z
UID:10004152-1765623600-1765630800@germantownlibrary.org
SUMMARY:Winter Cupcake Decorating Workshop - Cancelled
DESCRIPTION:DUE TO A STAFFING ISSUE\, THIS EVENT HAS BEEN CANCELLED. \n 
URL:https://germantownlibrary.org/event/winter-cupcake-decorating-workshop/
LOCATION:Germantown Library\, 31 Palatine Park Rd\, Germantown\, NY\, 12526\, United States
CATEGORIES:All Ages,Arts & Crafts,At the Library,Children's Event,Free Event
ATTACH;FMTTYPE=image/jpeg:https://germantownlibrary.org/wp-content/uploads/2025/10/cancelled-cupcake-workshop.jpg
ORGANIZER;CN="Germantown Library":MAILTO:events@germantownlibrary.org
END:VEVENT
BEGIN:VEVENT
DTSTART;TZID=America/New_York:20251214T130000
DTEND;TZID=America/New_York:20251214T140000
DTSTAMP:20260421T162718
CREATED:20251112T203842Z
LAST-MODIFIED:20251212T193909Z
UID:10004165-1765717200-1765720800@germantownlibrary.org
SUMMARY:Cirkus Workshop with the Bindlestiff Family Cirkus
DESCRIPTION:Join us for an afternoon of fun as we host the Bindlestiff Family Cirkus for a complimentary workshop for all ages! \nParticipants will experience a hands-on introduction to circus props and skills\, including juggling with balls\, rings\, and scarves\, diabolo\, flower sticks\, wobble boards (balance skill\, great for ages 4-6) hand-held stilts and bucket stilts\, low tight-wire\, rhythmic ribbons\, lassos and more! \nThe 1-hour session includes an ice-breaker\, a gentle warm-up\, and guided exploration of the equipment. \nAges 4 and up are most able to comfortably use the equipment. Under age 8 should have family member\, 12 or older\, to accompany them. Anyone under 4 is welcome\, with a parent or family member. Folks with mobility differences are welcome\, as many of the skills can be performed seated. \n  \nEvent Details \n\nSunday\, December 14\n1:00 – 2:00 pm\nat the Germantown Library\, in the Hover Room\nThis is a free workshop\n\n  \nThis workshop is provided courtesy of the Columbia County Board of Supervisors and the Columbia County Youth Bureau.\nFor more information about the Bindlestiff Family Cirkus\, please visit www.bindlestiff.org or follow at facebook.com/Bindlestiff.Cirkus and @bindlestifffamilycirkus on Instagram.
URL:https://germantownlibrary.org/event/cirkus-workshop-with-the-bindlestiff-family-cirkus/
LOCATION:Germantown Library Hover Room\, 31 Palatine Park Rd\, Germantown\, NY\, 12526\, United States
CATEGORIES:At the Library,Children's Event,Free Event
ATTACH;FMTTYPE=image/jpeg:https://germantownlibrary.org/wp-content/uploads/2025/11/Bindlestiff-Cirkus-Workshop-Web-Social.jpg
ORGANIZER;CN="Germantown Library":MAILTO:events@germantownlibrary.org
END:VEVENT
BEGIN:VEVENT
DTSTART;TZID=America/New_York:20251217T093000
DTEND;TZID=America/New_York:20251217T110000
DTSTAMP:20260421T162718
CREATED:20250622T003545Z
LAST-MODIFIED:20250622T003545Z
UID:10003821-1765963800-1765969200@germantownlibrary.org
SUMMARY:Toddler Story Time + Playgroup
DESCRIPTION:Toddler Story Time + Playgroup\n• Every Wednesday morning: 9:30 – 11 am\n• Makerspace (enter through the lower parking lot) \nOur weekly playgroup combines play\, socialization\, and stories in our material-rich Makerspace. We offer a new theme each week that matches stories with an activity\, plus a chance to check out materials and sign-up for a library card for any adult or child in your household. \nDuring our 90 minute story time we encourage children to engage in social activities\, crafts\, and play in our Makerspace and Hoover Room. We mix in a few stories throughout the hour.
URL:https://germantownlibrary.org/event/toddlerstorytime-2-2/2025-12-17/
LOCATION:Germantown Library Makerspace\, 31 Palatine Park Rd\, Germantown\, NY\, 12526\, United States
CATEGORIES:At the Library,Makerspace
ATTACH;FMTTYPE=image/jpeg:https://germantownlibrary.org/wp-content/uploads/2024/09/Germantown-Library-Story-Time-Every-Wednesday-930am-11am-jpg.avif
ORGANIZER;CN="Germantown Library":MAILTO:events@germantownlibrary.org
END:VEVENT
BEGIN:VEVENT
DTSTART;TZID=America/New_York:20251221T140000
DTEND;TZID=America/New_York:20251221T160000
DTSTAMP:20260421T162718
CREATED:20251212T191845Z
LAST-MODIFIED:20251212T191845Z
UID:10004181-1766325600-1766332800@germantownlibrary.org
SUMMARY:Celebrate the Solstice - Make Art With Us
DESCRIPTION:Join us in Makerspace as we celebrate the winter solstice with art! \nSunday\, December 21\, 2-4 PM\nAll ages welcome!
URL:https://germantownlibrary.org/event/celebrate-the-solstice-make-art-with-us/
LOCATION:Germantown Library\, 31 Palatine Park Rd\, Germantown\, NY\, 12526\, United States
ATTACH;FMTTYPE=image/jpeg:https://germantownlibrary.org/wp-content/uploads/2025/12/Solstice-Makerspace.jpg
ORGANIZER;CN="Germantown Library":MAILTO:events@germantownlibrary.org
END:VEVENT
BEGIN:VEVENT
DTSTART;TZID=America/New_York:20251224T093000
DTEND;TZID=America/New_York:20251224T110000
DTSTAMP:20260421T162718
CREATED:20251223T143050Z
LAST-MODIFIED:20251223T143342Z
UID:10004183-1766568600-1766574000@germantownlibrary.org
SUMMARY:Storytime Playgroup\, 12/24 & 12/31
DESCRIPTION:Come one\, come all! The holidays won’t slow us down! \nThe Germantown Library Storytime Playgroup will be meeting downstairs in the Makerspace on Wednesday\, 12/24 & 12/31\, 9:30-11am
URL:https://germantownlibrary.org/event/storytime-playgroup-12-24-12-31/2025-12-24/
LOCATION:Germantown Library Makerspace\, 31 Palatine Park Rd\, Germantown\, NY\, 12526\, United States
ATTACH;FMTTYPE=image/jpeg:https://germantownlibrary.org/wp-content/uploads/2025/12/Germantown-Library-Storytime-Playgroup.jpg
ORGANIZER;CN="Germantown Library":MAILTO:events@germantownlibrary.org
END:VEVENT
BEGIN:VEVENT
DTSTART;TZID=America/New_York:20251231T093000
DTEND;TZID=America/New_York:20251231T110000
DTSTAMP:20260421T162718
CREATED:20251223T143050Z
LAST-MODIFIED:20251223T143342Z
UID:10004184-1767173400-1767178800@germantownlibrary.org
SUMMARY:Storytime Playgroup\, 12/24 & 12/31
DESCRIPTION:Come one\, come all! The holidays won’t slow us down! \nThe Germantown Library Storytime Playgroup will be meeting downstairs in the Makerspace on Wednesday\, 12/24 & 12/31\, 9:30-11am
URL:https://germantownlibrary.org/event/storytime-playgroup-12-24-12-31/2025-12-31/
LOCATION:Germantown Library Makerspace\, 31 Palatine Park Rd\, Germantown\, NY\, 12526\, United States
ATTACH;FMTTYPE=image/jpeg:https://germantownlibrary.org/wp-content/uploads/2025/12/Germantown-Library-Storytime-Playgroup.jpg
ORGANIZER;CN="Germantown Library":MAILTO:events@germantownlibrary.org
END:VEVENT
END:VCALENDAR