BEGIN:VCALENDAR
VERSION:2.0
PRODID:-//Germantown Library - ECPv6.15.20//NONSGML v1.0//EN
CALSCALE:GREGORIAN
METHOD:PUBLISH
X-ORIGINAL-URL:https://germantownlibrary.org
X-WR-CALDESC:Events for Germantown Library
REFRESH-INTERVAL;VALUE=DURATION:PT1H
X-Robots-Tag:noindex
X-PUBLISHED-TTL:PT1H
BEGIN:VTIMEZONE
TZID:America/New_York
BEGIN:DAYLIGHT
TZOFFSETFROM:-0500
TZOFFSETTO:-0400
TZNAME:EDT
DTSTART:20240310T070000
END:DAYLIGHT
BEGIN:STANDARD
TZOFFSETFROM:-0400
TZOFFSETTO:-0500
TZNAME:EST
DTSTART:20241103T060000
END:STANDARD
BEGIN:DAYLIGHT
TZOFFSETFROM:-0500
TZOFFSETTO:-0400
TZNAME:EDT
DTSTART:20250309T070000
END:DAYLIGHT
BEGIN:STANDARD
TZOFFSETFROM:-0400
TZOFFSETTO:-0500
TZNAME:EST
DTSTART:20251102T060000
END:STANDARD
BEGIN:DAYLIGHT
TZOFFSETFROM:-0500
TZOFFSETTO:-0400
TZNAME:EDT
DTSTART:20260308T070000
END:DAYLIGHT
BEGIN:STANDARD
TZOFFSETFROM:-0400
TZOFFSETTO:-0500
TZNAME:EST
DTSTART:20261101T060000
END:STANDARD
END:VTIMEZONE
BEGIN:VEVENT
DTSTART;VALUE=DATE:20251101
DTEND;VALUE=DATE:20251130
DTSTAMP:20260424T172934
CREATED:20251021T184055Z
LAST-MODIFIED:20251021T191503Z
UID:10004157-1761955200-1764460799@germantownlibrary.org
SUMMARY:November Pet Supply Drive
DESCRIPTION:All November long\, the Germantown Library is partnering with the Columbia-Greene County Humane Society to collect supplies for adoptable cats and dogs. For donations during regular hours\, place your items in the bins at the front desk. For donations after hours\, please neatly leave bagged donations at the front door.  \nHelp us support the Columbia-Greene County Humane Society and provide much needed supplies to the cats and dogs in need of homes and comfort\, ahead of the holidays! \n  \nThe CGHS & SPCA is in need of the following items \n(no donation is ever too small!) \n\nBlankets & Towels\nCat & Dog Canned Food\nCat & Dog Toys\nCat & Dog Treats\nDry Cat & Dog Food\nKongs & Nylabones\nCat Litter\nLaundry Detergent\nBleach\nDish Soap\nSponges & Disposable Medical Gloves\nOffice Paper
URL:https://germantownlibrary.org/event/november-pet-supply-drive/
LOCATION:Germantown Library\, 31 Palatine Park Rd\, Germantown\, NY\, 12526\, United States
CATEGORIES:All Ages,Animal,At the Library
ATTACH;FMTTYPE=image/png:https://germantownlibrary.org/wp-content/uploads/2025/10/1.png
ORGANIZER;CN="Germantown Library":MAILTO:events@germantownlibrary.org
END:VEVENT
BEGIN:VEVENT
DTSTART;TZID=America/New_York:20251026T140000
DTEND;TZID=America/New_York:20251026T153000
DTSTAMP:20260424T172934
CREATED:20250903T180855Z
LAST-MODIFIED:20251001T210253Z
UID:10004083-1761487200-1761492600@germantownlibrary.org
SUMMARY:Fill-A-Jar Floral Station
DESCRIPTION:Join us for another BYOJ (bring your own jar) Fill-a-Jar Floral Station at the Germantown Library! \nHave guests coming to town\, or just looking to brighten up your space? Bring your own jar or container\, and stop by the library on Sunday\, October 26 to choose from a variety of complimentary flowers and greenery from Athabold. \nThis is a free\, self-guided experience. You’re welcome to bring a container\, jar\, or vase (and a friend!) and create a beautiful arrangement to kick off the start of fall! \nCome early—florals will be available while supplies last! \n  \nEvent Details \n\nSunday\, October 26\n2:00 pm – 3:30 pm\nin the Hover Room\n\n  \nFor questions\, email events@germantownlibrary.org.
URL:https://germantownlibrary.org/event/fill-a-jar-floral-station-3/
LOCATION:Germantown Library\, 31 Palatine Park Rd\, Germantown\, NY\, 12526\, United States
CATEGORIES:All Ages,Arts & Crafts,At the Library,Free Event
ATTACH;FMTTYPE=image/jpeg:https://germantownlibrary.org/wp-content/uploads/2025/09/Fill-A-Jar-Floral-Event-Web3.jpg
ORGANIZER;CN="Germantown Library":MAILTO:events@germantownlibrary.org
END:VEVENT
END:VCALENDAR