BEGIN:VCALENDAR
VERSION:2.0
PRODID:-//Germantown Library - ECPv6.15.20//NONSGML v1.0//EN
CALSCALE:GREGORIAN
METHOD:PUBLISH
X-ORIGINAL-URL:https://germantownlibrary.org
X-WR-CALDESC:Events for Germantown Library
REFRESH-INTERVAL;VALUE=DURATION:PT1H
X-Robots-Tag:noindex
X-PUBLISHED-TTL:PT1H
BEGIN:VTIMEZONE
TZID:America/New_York
BEGIN:DAYLIGHT
TZOFFSETFROM:-0500
TZOFFSETTO:-0400
TZNAME:EDT
DTSTART:20240310T070000
END:DAYLIGHT
BEGIN:STANDARD
TZOFFSETFROM:-0400
TZOFFSETTO:-0500
TZNAME:EST
DTSTART:20241103T060000
END:STANDARD
BEGIN:DAYLIGHT
TZOFFSETFROM:-0500
TZOFFSETTO:-0400
TZNAME:EDT
DTSTART:20250309T070000
END:DAYLIGHT
BEGIN:STANDARD
TZOFFSETFROM:-0400
TZOFFSETTO:-0500
TZNAME:EST
DTSTART:20251102T060000
END:STANDARD
BEGIN:DAYLIGHT
TZOFFSETFROM:-0500
TZOFFSETTO:-0400
TZNAME:EDT
DTSTART:20260308T070000
END:DAYLIGHT
BEGIN:STANDARD
TZOFFSETFROM:-0400
TZOFFSETTO:-0500
TZNAME:EST
DTSTART:20261101T060000
END:STANDARD
END:VTIMEZONE
BEGIN:VEVENT
DTSTART;VALUE=DATE:20251101
DTEND;VALUE=DATE:20251130
DTSTAMP:20260423T163338
CREATED:20251021T184055Z
LAST-MODIFIED:20251021T191503Z
UID:10004157-1761955200-1764460799@germantownlibrary.org
SUMMARY:November Pet Supply Drive
DESCRIPTION:All November long\, the Germantown Library is partnering with the Columbia-Greene County Humane Society to collect supplies for adoptable cats and dogs. For donations during regular hours\, place your items in the bins at the front desk. For donations after hours\, please neatly leave bagged donations at the front door.  \nHelp us support the Columbia-Greene County Humane Society and provide much needed supplies to the cats and dogs in need of homes and comfort\, ahead of the holidays! \n  \nThe CGHS & SPCA is in need of the following items \n(no donation is ever too small!) \n\nBlankets & Towels\nCat & Dog Canned Food\nCat & Dog Toys\nCat & Dog Treats\nDry Cat & Dog Food\nKongs & Nylabones\nCat Litter\nLaundry Detergent\nBleach\nDish Soap\nSponges & Disposable Medical Gloves\nOffice Paper
URL:https://germantownlibrary.org/event/november-pet-supply-drive/
LOCATION:Germantown Library\, 31 Palatine Park Rd\, Germantown\, NY\, 12526\, United States
CATEGORIES:All Ages,Animal,At the Library
ATTACH;FMTTYPE=image/png:https://germantownlibrary.org/wp-content/uploads/2025/10/1.png
ORGANIZER;CN="Germantown Library":MAILTO:events@germantownlibrary.org
END:VEVENT
BEGIN:VEVENT
DTSTART;TZID=America/New_York:20251116T120000
DTEND;TZID=America/New_York:20251116T140000
DTSTAMP:20260423T163338
CREATED:20251009T183047Z
LAST-MODIFIED:20251023T155533Z
UID:10004154-1763294400-1763301600@germantownlibrary.org
SUMMARY:Seasonal Wine Tasting Seminar
DESCRIPTION:Join us for a complimentary 2-hour wine seminar and private tasting with Stu Davidson Tribbs\, owner of Lawlor’s Package Store!\n\n\n\n\nDuring this session\, participants will be led through an educational seminar on the seasonal wine varieties\, pairings and flavor profiles before diving into a shoppable wine tasting featuring a curated selection from Lawlor’s Package Store\, led by Stu Davidson Tribbs. Participants will also have the opportunity to purchase select products after the event. \nParticipants must be 21+. \n\n\nHurry\, RSVP space is limited. Scroll down and confirm your spot! \n  \nEvent Details \n\nSunday\, November 16\n12:00 pm – 2:00 pm\nIn the Hover Room\n\n  \nFor questions\, email events@germantownlibrary.org.
URL:https://germantownlibrary.org/event/wine-tasting-seminar-with-lawlors-package-store/
LOCATION:Germantown Library\, 31 Palatine Park Rd\, Germantown\, NY\, 12526\, United States
CATEGORIES:Adults Only,At the Library,Free Event
ATTACH;FMTTYPE=image/png:https://germantownlibrary.org/wp-content/uploads/2025/10/Wine-Tasting-Seminar-IG-2.png
ORGANIZER;CN="Germantown Library":MAILTO:events@germantownlibrary.org
END:VEVENT
BEGIN:VEVENT
DTSTART;TZID=America/New_York:20251116T140000
DTEND;TZID=America/New_York:20251116T160000
DTSTAMP:20260423T163338
CREATED:20251023T150734Z
LAST-MODIFIED:20251023T150817Z
UID:10004160-1763301600-1763308800@germantownlibrary.org
SUMMARY:Candle Magic
DESCRIPTION:Learn about the magic in candles!\nThis class may touch on a little bit of making your own candles but it will really focus on the discussion and practice of the magic in color\, use of herbs\, days of the week\, etc.\nPremade candles will be provided for this class. Adults preferred but all ages welcome.\n\nPlease RSVP  (max 25 people)\n\nNov 16\, 2pm in Makerspace
URL:https://germantownlibrary.org/event/candle-magic/
LOCATION:Germantown Library Makerspace\, 31 Palatine Park Rd\, Germantown\, NY\, 12526\, United States
CATEGORIES:Makerspace
ATTACH;FMTTYPE=image/png:https://germantownlibrary.org/wp-content/uploads/2025/10/Makerspace-Candle-Magic-Nov-16th.png
ORGANIZER;CN="Germantown Library":MAILTO:events@germantownlibrary.org
END:VEVENT
BEGIN:VEVENT
DTSTART;TZID=America/New_York:20251119T093000
DTEND;TZID=America/New_York:20251119T110000
DTSTAMP:20260423T163338
CREATED:20250622T003545Z
LAST-MODIFIED:20250622T003545Z
UID:10003817-1763544600-1763550000@germantownlibrary.org
SUMMARY:Toddler Story Time + Playgroup
DESCRIPTION:Toddler Story Time + Playgroup\n• Every Wednesday morning: 9:30 – 11 am\n• Makerspace (enter through the lower parking lot) \nOur weekly playgroup combines play\, socialization\, and stories in our material-rich Makerspace. We offer a new theme each week that matches stories with an activity\, plus a chance to check out materials and sign-up for a library card for any adult or child in your household. \nDuring our 90 minute story time we encourage children to engage in social activities\, crafts\, and play in our Makerspace and Hoover Room. We mix in a few stories throughout the hour.
URL:https://germantownlibrary.org/event/toddlerstorytime-2-2/2025-11-19/
LOCATION:Germantown Library Makerspace\, 31 Palatine Park Rd\, Germantown\, NY\, 12526\, United States
CATEGORIES:At the Library,Makerspace
ATTACH;FMTTYPE=image/jpeg:https://germantownlibrary.org/wp-content/uploads/2024/09/Germantown-Library-Story-Time-Every-Wednesday-930am-11am-jpg.avif
ORGANIZER;CN="Germantown Library":MAILTO:events@germantownlibrary.org
END:VEVENT
END:VCALENDAR