BEGIN:VCALENDAR
VERSION:2.0
PRODID:-//Germantown Library - ECPv6.15.20//NONSGML v1.0//EN
CALSCALE:GREGORIAN
METHOD:PUBLISH
X-WR-CALNAME:Germantown Library
X-ORIGINAL-URL:https://germantownlibrary.org
X-WR-CALDESC:Events for Germantown Library
REFRESH-INTERVAL;VALUE=DURATION:PT1H
X-Robots-Tag:noindex
X-PUBLISHED-TTL:PT1H
BEGIN:VTIMEZONE
TZID:America/New_York
BEGIN:DAYLIGHT
TZOFFSETFROM:-0500
TZOFFSETTO:-0400
TZNAME:EDT
DTSTART:20250309T070000
END:DAYLIGHT
BEGIN:STANDARD
TZOFFSETFROM:-0400
TZOFFSETTO:-0500
TZNAME:EST
DTSTART:20251102T060000
END:STANDARD
BEGIN:DAYLIGHT
TZOFFSETFROM:-0500
TZOFFSETTO:-0400
TZNAME:EDT
DTSTART:20260308T070000
END:DAYLIGHT
BEGIN:STANDARD
TZOFFSETFROM:-0400
TZOFFSETTO:-0500
TZNAME:EST
DTSTART:20261101T060000
END:STANDARD
BEGIN:DAYLIGHT
TZOFFSETFROM:-0500
TZOFFSETTO:-0400
TZNAME:EDT
DTSTART:20270314T070000
END:DAYLIGHT
BEGIN:STANDARD
TZOFFSETFROM:-0400
TZOFFSETTO:-0500
TZNAME:EST
DTSTART:20271107T060000
END:STANDARD
END:VTIMEZONE
BEGIN:VEVENT
DTSTART;TZID=America/New_York:20260412T140000
DTEND;TZID=America/New_York:20260412T170000
DTSTAMP:20260423T143423
CREATED:20260401T211234Z
LAST-MODIFIED:20260404T134446Z
UID:10004990-1776002400-1776013200@germantownlibrary.org
SUMMARY:Coiled Basket Making
DESCRIPTION:We’ve woven baskets of raffia & pine needles in the Makerspace\, next up is coiled baskets! \nCoiled basket weaving is one of the oldest and most commonly used basketry techniques\, used globally to make sturdy\, functional baskets. In this class we will use cotton rope for the foundation material\, wrapped\, spiraled and stitched together to form baskets. \nA beginner-friendly class\, recommended for teens & adults. \nSpace is limited\, RSVP to reserve your seat.\nPlease notify the library if you have RSVP’d but your plans change\, so we can open the seat up to others.
URL:https://germantownlibrary.org/event/coiled-basket-making/
LOCATION:Germantown Library Makerspace\, 31 Palatine Park Rd\, Germantown\, NY\, 12526\, United States
ATTACH;FMTTYPE=image/png:https://germantownlibrary.org/wp-content/uploads/2026/04/Coiled-Baskets-scaled.png
ORGANIZER;CN="Germantown Library":MAILTO:events@germantownlibrary.org
END:VEVENT
BEGIN:VEVENT
DTSTART;TZID=America/New_York:20260414T100000
DTEND;TZID=America/New_York:20260414T111500
DTSTAMP:20260423T143423
CREATED:20260305T031035Z
LAST-MODIFIED:20260305T031035Z
UID:10004724-1776160800-1776165300@germantownlibrary.org
SUMMARY:Basic Breath & Body Movement
DESCRIPTION:Basic Breath and Body Movement with Regina\nTuesdays: 10:00 AM\nSaturdays 9:00 AM\nIn the Hover Room\, around back of the Library\nSuggested $10 donation\, cash or Venmo to the instructor\nAll levels welcome \n…deep breath\, deep practice…\n…long breath\, long spine…\nBegin again with Kriya (breathing patterns) and gentle movement to increase circulation and\nfacilitate spinal health.\nMats and chairs are available\nFor additional information\, call Regina Simmons\n518-527-0872
URL:https://germantownlibrary.org/event/basic-breath-body-movement/2026-04-14/
LOCATION:Germantown Library\, 31 Palatine Park Rd\, Germantown\, NY\, 12526\, United States
ATTACH;FMTTYPE=image/png:https://germantownlibrary.org/wp-content/uploads/2025/08/Basic-Breath-and-Body-Movement-Social-1.png
ORGANIZER;CN="Germantown Library":MAILTO:events@germantownlibrary.org
END:VEVENT
BEGIN:VEVENT
DTSTART;TZID=America/New_York:20260415T093000
DTEND;TZID=America/New_York:20260415T110000
DTSTAMP:20260423T143423
CREATED:20260406T201706Z
LAST-MODIFIED:20260406T201954Z
UID:10004200-1776245400-1776250800@germantownlibrary.org
SUMMARY:Toddler Storytime & Playgroup - Cancelled April 15
DESCRIPTION:The April 15th Story Time & Playgroup has been cancelled. The next one will be on April 22.  \nToddler Story Time + Playgroup\n• Every Wednesday morning: 9:30 – 11 am\n• Makerspace (enter through the lower parking lot) \nOur weekly playgroup combines play\, socialization\, and stories in our material-rich Makerspace. We offer a new theme each week that matches stories with an activity\, plus a chance to check out materials and sign-up for a library card for any adult or child in your household. \nDuring our 90 minute story time we encourage children to engage in social activities\, crafts\, and play in our Makerspace and Hoover Room. We mix in a few stories throughout the hour.
URL:https://germantownlibrary.org/event/toddler-storytime-playgroup-3/
LOCATION:Germantown Library Makerspace\, 31 Palatine Park Rd\, Germantown\, NY\, 12526\, United States
ATTACH;FMTTYPE=image/png:https://germantownlibrary.org/wp-content/uploads/2026/04/April-15-Storytime-Cancelled.png
ORGANIZER;CN="Germantown Library":MAILTO:events@germantownlibrary.org
END:VEVENT
BEGIN:VEVENT
DTSTART;TZID=America/New_York:20260418T090000
DTEND;TZID=America/New_York:20260418T101500
DTSTAMP:20260423T143423
CREATED:20260304T225213Z
LAST-MODIFIED:20260305T030843Z
UID:10004265-1776502800-1776507300@germantownlibrary.org
SUMMARY:Basic Breath and Body Movement
DESCRIPTION:Basic Breath and Body Movement with Regina\nTuesdays: 10:00 AM\nSaturdays 9:00 AM\nIn the Hover Room\, around back of the Library\nSuggested $10 donation\, cash or Venmo to the instructor\nAll levels welcome \n…deep breath\, deep practice…\n…long breath\, long spine…\nBegin again with Kriya (breathing patterns) and gentle movement to increase circulation and\nfacilitate spinal health.\nMats and chairs are available\nFor additional information\, call Regina Simmons\n518-527-0872
URL:https://germantownlibrary.org/event/basic-breath-and-body-movement-2/2026-04-18/
LOCATION:Germantown Library Hover Room\, 31 Palatine Park Rd\, Germantown\, NY\, 12526\, United States
CATEGORIES:All Ages,At the Library,Relaxing & Meditative
ATTACH;FMTTYPE=image/png:https://germantownlibrary.org/wp-content/uploads/2025/08/Basic-Breath-and-Body-Movement-Social-1.png
ORGANIZER;CN="Germantown Library":MAILTO:events@germantownlibrary.org
END:VEVENT
END:VCALENDAR